BEGIN:VCALENDAR
VERSION:2.0
PRODID:-//ChamberMaster//Event Calendar 2.0//EN
METHOD:PUBLISH
X-PUBLISHED-TTL:P3D
REFRESH-INTERVAL:P3D
CALSCALE:GREGORIAN
BEGIN:VEVENT
DTSTART:20250709T140000Z
DTEND:20250711T230000Z
X-MICROSOFT-CDO-ALLDAYEVENT:FALSE
SUMMARY:2025 IPANM Annual Meeting Presented by Yates Family Legacy Companies
DESCRIPTION:This year's Annual Meeting will be held July 9-11\, 2025 at Sandia Resort & Casino in Albuquerque\, New Mexico.  Please reach out to Kacy Brown\, Director of Operations with any questions at (575) 622-2566 or email her at kacybrown@ipanm.org.
X-ALT-DESC;FMTTYPE=text/html:<p>This year&#39\;s Annual Meeting will be held July 9-11\, 2025&nbsp\;at Sandia Resort &amp\; Casino&nbsp\;in Albuquerque\, New Mexico.&nbsp\; Please reach out to Kacy Brown\, Director of Operations with any questions at (575) 622-2566&nbsp\;or&nbsp\;email her at <a href="mailto:kacybrown@ipanm.org">kacybrown@ipanm.org</a>.&nbsp\;</p>\n
LOCATION:Sandia Resort & Casino. Hotel Reservations.
UID:e.9616.430
SEQUENCE:3
DTSTAMP:20260423T135649Z
URL:https://business.ipanm.org/events/details/2025-ipanm-annual-meeting-430
END:VEVENT

END:VCALENDAR
